BEGIN:VCALENDAR
VERSION:2.0
PRODID:-//Planet Helix - ECPv6.15.20//NONSGML v1.0//EN
CALSCALE:GREGORIAN
METHOD:PUBLISH
X-WR-CALNAME:Planet Helix
X-ORIGINAL-URL:https://www.planethelix.com
X-WR-CALDESC:Events for Planet Helix
REFRESH-INTERVAL;VALUE=DURATION:PT1H
X-Robots-Tag:noindex
X-PUBLISHED-TTL:PT1H
BEGIN:VTIMEZONE
TZID:America/Toronto
BEGIN:DAYLIGHT
TZOFFSETFROM:-0500
TZOFFSETTO:-0400
TZNAME:EDT
DTSTART:20230312T070000
END:DAYLIGHT
BEGIN:STANDARD
TZOFFSETFROM:-0400
TZOFFSETTO:-0500
TZNAME:EST
DTSTART:20231105T060000
END:STANDARD
BEGIN:DAYLIGHT
TZOFFSETFROM:-0500
TZOFFSETTO:-0400
TZNAME:EDT
DTSTART:20240310T070000
END:DAYLIGHT
BEGIN:STANDARD
TZOFFSETFROM:-0400
TZOFFSETTO:-0500
TZNAME:EST
DTSTART:20241103T060000
END:STANDARD
BEGIN:DAYLIGHT
TZOFFSETFROM:-0500
TZOFFSETTO:-0400
TZNAME:EDT
DTSTART:20250309T070000
END:DAYLIGHT
BEGIN:STANDARD
TZOFFSETFROM:-0400
TZOFFSETTO:-0500
TZNAME:EST
DTSTART:20251102T060000
END:STANDARD
END:VTIMEZONE
BEGIN:VEVENT
DTSTART;TZID=America/Toronto:20240816T190000
DTEND;TZID=America/Toronto:20240816T230000
DTSTAMP:20260424T180903
CREATED:20240624T031755Z
LAST-MODIFIED:20240624T031755Z
UID:1708-1723834800-1723849200@www.planethelix.com
SUMMARY:Helix\, Kick Axe & Killer Dwarfs
DESCRIPTION:
URL:https://www.planethelix.com/event/helix-kick-axe-killer-dwarfs/
LOCATION:Grey Eagle Resort and Casino\, 3777 Grey Eagle Drive Tsuut’ina\, Alberta T3E 3X8\, Tsuut’ina\, Alberta\, T3E 3X8\, Canada
ATTACH;FMTTYPE=image/webp:https://www.planethelix.com/wp-content/uploads/2024/06/448502033_120207464409480474_7643178945587978617_n.webp
END:VEVENT
END:VCALENDAR