BEGIN:VCALENDAR
VERSION:2.0
PRODID:-//Planet Helix - ECPv6.15.20//NONSGML v1.0//EN
CALSCALE:GREGORIAN
METHOD:PUBLISH
X-WR-CALNAME:Planet Helix
X-ORIGINAL-URL:https://www.planethelix.com
X-WR-CALDESC:Events for Planet Helix
REFRESH-INTERVAL;VALUE=DURATION:PT1H
X-Robots-Tag:noindex
X-PUBLISHED-TTL:PT1H
BEGIN:VTIMEZONE
TZID:America/Toronto
BEGIN:DAYLIGHT
TZOFFSETFROM:-0500
TZOFFSETTO:-0400
TZNAME:EDT
DTSTART:20240310T070000
END:DAYLIGHT
BEGIN:STANDARD
TZOFFSETFROM:-0400
TZOFFSETTO:-0500
TZNAME:EST
DTSTART:20241103T060000
END:STANDARD
BEGIN:DAYLIGHT
TZOFFSETFROM:-0500
TZOFFSETTO:-0400
TZNAME:EDT
DTSTART:20250309T070000
END:DAYLIGHT
BEGIN:STANDARD
TZOFFSETFROM:-0400
TZOFFSETTO:-0500
TZNAME:EST
DTSTART:20251102T060000
END:STANDARD
BEGIN:DAYLIGHT
TZOFFSETFROM:-0500
TZOFFSETTO:-0400
TZNAME:EDT
DTSTART:20260308T070000
END:DAYLIGHT
BEGIN:STANDARD
TZOFFSETFROM:-0400
TZOFFSETTO:-0500
TZNAME:EST
DTSTART:20261101T060000
END:STANDARD
END:VTIMEZONE
BEGIN:VEVENT
DTSTART;TZID=America/Toronto:20250628T190000
DTEND;TZID=America/Toronto:20250628T233000
DTSTAMP:20260422T142239
CREATED:20250118T202315Z
LAST-MODIFIED:20250223T135845Z
UID:1801-1751137200-1751153400@www.planethelix.com
SUMMARY:Kitchener - Helix With Special Guests Enuff Z Nuff & HOWZAT
DESCRIPTION:https://www.ticketweb.ca/event/helix-the-retirement-tour-elements-tickets/14223063 \nThis event is 19 and over. Any ticket holder unable to present valid identification indicating that they are at least 19 years of age will not be admitted to this event\, and will not be eligible for a refund.
URL:https://www.planethelix.com/event/helix-with-special-guests-enuff-z-nuff-howzat-2/
LOCATION:Elements  Kitchener\, 90 King St W.\, Kitchener\, ONTARIO\, N2G 1A6
ATTACH;FMTTYPE=image/webp:https://www.planethelix.com/wp-content/uploads/2025/01/480796019_10170889143630515_1839571590294430391_n.webp
ORGANIZER;CN="STUDIO73 DIGITAL MEDIA":MAILTO:Jay@Studio73digitalmedia.com
END:VEVENT
END:VCALENDAR