BEGIN:VCALENDAR
VERSION:2.0
PRODID:-//Planet Helix - ECPv6.15.20//NONSGML v1.0//EN
CALSCALE:GREGORIAN
METHOD:PUBLISH
X-WR-CALNAME:Planet Helix
X-ORIGINAL-URL:https://www.planethelix.com
X-WR-CALDESC:Events for Planet Helix
REFRESH-INTERVAL;VALUE=DURATION:PT1H
X-Robots-Tag:noindex
X-PUBLISHED-TTL:PT1H
BEGIN:VTIMEZONE
TZID:America/Toronto
BEGIN:DAYLIGHT
TZOFFSETFROM:-0500
TZOFFSETTO:-0400
TZNAME:EDT
DTSTART:20240310T070000
END:DAYLIGHT
BEGIN:STANDARD
TZOFFSETFROM:-0400
TZOFFSETTO:-0500
TZNAME:EST
DTSTART:20241103T060000
END:STANDARD
BEGIN:DAYLIGHT
TZOFFSETFROM:-0500
TZOFFSETTO:-0400
TZNAME:EDT
DTSTART:20250309T070000
END:DAYLIGHT
BEGIN:STANDARD
TZOFFSETFROM:-0400
TZOFFSETTO:-0500
TZNAME:EST
DTSTART:20251102T060000
END:STANDARD
BEGIN:DAYLIGHT
TZOFFSETFROM:-0500
TZOFFSETTO:-0400
TZNAME:EDT
DTSTART:20260308T070000
END:DAYLIGHT
BEGIN:STANDARD
TZOFFSETFROM:-0400
TZOFFSETTO:-0500
TZNAME:EST
DTSTART:20261101T060000
END:STANDARD
END:VTIMEZONE
BEGIN:VEVENT
DTSTART;TZID=America/Toronto:20251011T190000
DTEND;TZID=America/Toronto:20251011T233000
DTSTAMP:20260422T122059
CREATED:20250603T200914Z
LAST-MODIFIED:20250603T201750Z
UID:1886-1760209200-1760225400@www.planethelix.com
SUMMARY:Nazareth & HELIX - The Pickering Casino
DESCRIPTION:Nazareth: Canadian Farewell Tour\nNazareth\nFormed in Dunfermline\, Scotland in 1968\, Nazareth rose to international fame with a gritty\, hard-edged sound and unforgettable tracks like “Hair of the Dog\,” “Love Hurts\,” “Razamanaz\,” and “This Flight Tonight.” Known for their raw vocals\, searing guitar work\, and enduring energy\, Nazareth earned a place among rock’s elite with over 20 studio albums and millions of records sold worldwide. \nWith Special Guests: Helix\nFormed in Calgary\, Alberta in 1974\, Helix became a powerhouse in Canadian hard rock and heavy metal with hits like “Rock You\,” “Deep Cuts the Knife\,” and “Wild in the Streets.” Known for their high-energy performances and catchy\, riff-driven songs\, Helix earned a dedicated fanbase and multiple gold albums throughout the ’80s. Their enduring spirit and classic sound continue to make them a staple of the Canadian rock scene. \nTickets\nTickets are available on ticketmaster.ca or at the Box Office 90 minutes prior to any show time. \nThis is an all ages event. \nStay The Night\nStay in a beautiful king or queen room or unwind in an elegant and spacious suite in our integrated hotel. Book Now. \nGet Tickets Book Hotel
URL:https://www.planethelix.com/event/nazareth-helix-the-pickering-casino/
LOCATION:Pickering Casino Resort\, 888 Durham Live Ave\,\, Pickering\, ON\, L1W 0C1\, Canada
ATTACH;FMTTYPE=image/webp:https://www.planethelix.com/wp-content/uploads/2025/06/504222517_18313367689229576_3367460360116401672_n.webp
END:VEVENT
END:VCALENDAR