BEGIN:VCALENDAR
VERSION:2.0
PRODID:-//Planet Helix - ECPv6.15.20//NONSGML v1.0//EN
CALSCALE:GREGORIAN
METHOD:PUBLISH
X-WR-CALNAME:Planet Helix
X-ORIGINAL-URL:https://www.planethelix.com
X-WR-CALDESC:Events for Planet Helix
REFRESH-INTERVAL;VALUE=DURATION:PT1H
X-Robots-Tag:noindex
X-PUBLISHED-TTL:PT1H
BEGIN:VTIMEZONE
TZID:America/Toronto
BEGIN:DAYLIGHT
TZOFFSETFROM:-0500
TZOFFSETTO:-0400
TZNAME:EDT
DTSTART:20240310T070000
END:DAYLIGHT
BEGIN:STANDARD
TZOFFSETFROM:-0400
TZOFFSETTO:-0500
TZNAME:EST
DTSTART:20241103T060000
END:STANDARD
BEGIN:DAYLIGHT
TZOFFSETFROM:-0500
TZOFFSETTO:-0400
TZNAME:EDT
DTSTART:20250309T070000
END:DAYLIGHT
BEGIN:STANDARD
TZOFFSETFROM:-0400
TZOFFSETTO:-0500
TZNAME:EST
DTSTART:20251102T060000
END:STANDARD
BEGIN:DAYLIGHT
TZOFFSETFROM:-0500
TZOFFSETTO:-0400
TZNAME:EDT
DTSTART:20260308T070000
END:DAYLIGHT
BEGIN:STANDARD
TZOFFSETFROM:-0400
TZOFFSETTO:-0500
TZNAME:EST
DTSTART:20261101T060000
END:STANDARD
END:VTIMEZONE
BEGIN:VEVENT
DTSTART;TZID=America/Toronto:20251027T190000
DTEND;TZID=America/Toronto:20251027T230000
DTSTAMP:20260423T164513
CREATED:20250828T144556Z
LAST-MODIFIED:20250828T144737Z
UID:1912-1761591600-1761606000@www.planethelix.com
SUMMARY:Nazareth Helix Sandman Centre  Kamloops\, BC
DESCRIPTION:Nazareth – October 27\, 2025\n\nCanadian Farewell Tour\nA night of legendary rock’n roll is coming your way! The Sandman Centre is proud to welcome Nazareth on their Canadian Farewell Tour on October 27\, 2025. With over 50 years of iconic hits like Love Hurts\, Hair of the Dog\, This Flight Tonight\, and Razamanaz. \nThis Canadian Farewell Tour marks the band’s heartfelt final tour through Canada\, offering fans one last chance to experience their iconic sound live. \nTickets go on sale to the public\, 10:00 am on Thursday\, July 31\, at the Sandman Centre Box Office and online at ticketmaster.ca. https://www.ticketmaster.ca/event/110062F6EFF956BB
URL:https://www.planethelix.com/event/sandman-centre/
LOCATION:Sandman Centre\, 300 Lorne Street\, Kamloops\, BC\, V2C 1W1\, Canada
ATTACH;FMTTYPE=image/webp:https://www.planethelix.com/wp-content/uploads/2025/06/504222517_18313367689229576_3367460360116401672_n.webp
END:VEVENT
END:VCALENDAR