BEGIN:VCALENDAR
VERSION:2.0
PRODID:-//Planet Helix - ECPv6.15.20//NONSGML v1.0//EN
CALSCALE:GREGORIAN
METHOD:PUBLISH
X-WR-CALNAME:Planet Helix
X-ORIGINAL-URL:https://www.planethelix.com
X-WR-CALDESC:Events for Planet Helix
REFRESH-INTERVAL;VALUE=DURATION:PT1H
X-Robots-Tag:noindex
X-PUBLISHED-TTL:PT1H
BEGIN:VTIMEZONE
TZID:America/Toronto
BEGIN:DAYLIGHT
TZOFFSETFROM:-0500
TZOFFSETTO:-0400
TZNAME:EDT
DTSTART:20220313T070000
END:DAYLIGHT
BEGIN:STANDARD
TZOFFSETFROM:-0400
TZOFFSETTO:-0500
TZNAME:EST
DTSTART:20221106T060000
END:STANDARD
BEGIN:DAYLIGHT
TZOFFSETFROM:-0500
TZOFFSETTO:-0400
TZNAME:EDT
DTSTART:20230312T070000
END:DAYLIGHT
BEGIN:STANDARD
TZOFFSETFROM:-0400
TZOFFSETTO:-0500
TZNAME:EST
DTSTART:20231105T060000
END:STANDARD
BEGIN:DAYLIGHT
TZOFFSETFROM:-0500
TZOFFSETTO:-0400
TZNAME:EDT
DTSTART:20240310T070000
END:DAYLIGHT
BEGIN:STANDARD
TZOFFSETFROM:-0400
TZOFFSETTO:-0500
TZNAME:EST
DTSTART:20241103T060000
END:STANDARD
END:VTIMEZONE
BEGIN:VEVENT
DTSTART;VALUE=DATE:20230811
DTEND;VALUE=DATE:20230812
DTSTAMP:20260425T130128
CREATED:20230106T170428Z
LAST-MODIFIED:20230106T170445Z
UID:1530-1691712000-1691798399@www.planethelix.com
SUMMARY:August 11th: Cranbrook/Rockin the Kootenays
DESCRIPTION:
URL:https://www.planethelix.com/event/august-11th-cranbrook-rockin-the-kootenays/
LOCATION:CRANBROOK\, 20 14th Avenue North Cranbrook\, BC V1C 6H4\, Canada
ATTACH;FMTTYPE=image/webp:https://www.planethelix.com/wp-content/uploads/2023/01/59de97a4-f776-4675-9a57-7bf1977daa96_RETINA_PORTRAIT_16_9.webp
END:VEVENT
BEGIN:VEVENT
DTSTART;VALUE=DATE:20230812
DTEND;VALUE=DATE:20230815
DTSTAMP:20260425T130128
CREATED:20221221T212126Z
LAST-MODIFIED:20230217T021255Z
UID:1515-1691798400-1692057599@www.planethelix.com
SUMMARY:Rock Maple Ridge
DESCRIPTION:
URL:https://www.planethelix.com/event/rock-maple-ridge/
LOCATION:Albion Sports Complex\, Albion Sports Complex\, 23778 104 Ave\, Maple Ridge\, BC V2W 1B8\, Maple Ridge\, British Columbia\, V2W 1B8\, Canada
ATTACH;FMTTYPE=image/webp:https://www.planethelix.com/wp-content/uploads/2022/12/320859096_421197790133114_7766336917578507042_n.webp
END:VEVENT
BEGIN:VEVENT
DTSTART;TZID=America/Toronto:20230819T173000
DTEND;TZID=America/Toronto:20230819T230000
DTSTAMP:20260425T130128
CREATED:20230106T165740Z
LAST-MODIFIED:20230106T165742Z
UID:1520-1692466200-1692486000@www.planethelix.com
SUMMARY:August 19th: Rock the Harbour
DESCRIPTION:
URL:https://www.planethelix.com/event/august-19th-rock-the-harbour/
LOCATION:Alderney Landing\, 2 Ochterloney Street P.O. Box 725 Dartmouth\, Nova Scotia\, Dartmouth\, Nova Scotia\, B2Y 3Z3\, Canada
ATTACH;FMTTYPE=image/webp:https://www.planethelix.com/wp-content/uploads/2023/01/Rock-Harbor-Halifax.webp
END:VEVENT
END:VCALENDAR