BEGIN:VCALENDAR
VERSION:2.0
PRODID:-//Planet Helix - ECPv6.15.20//NONSGML v1.0//EN
CALSCALE:GREGORIAN
METHOD:PUBLISH
X-ORIGINAL-URL:https://www.planethelix.com
X-WR-CALDESC:Events for Planet Helix
REFRESH-INTERVAL;VALUE=DURATION:PT1H
X-Robots-Tag:noindex
X-PUBLISHED-TTL:PT1H
BEGIN:VTIMEZONE
TZID:Europe/Berlin
BEGIN:DAYLIGHT
TZOFFSETFROM:+0100
TZOFFSETTO:+0200
TZNAME:CEST
DTSTART:20220327T010000
END:DAYLIGHT
BEGIN:STANDARD
TZOFFSETFROM:+0200
TZOFFSETTO:+0100
TZNAME:CET
DTSTART:20221030T010000
END:STANDARD
BEGIN:DAYLIGHT
TZOFFSETFROM:+0100
TZOFFSETTO:+0200
TZNAME:CEST
DTSTART:20230326T010000
END:DAYLIGHT
BEGIN:STANDARD
TZOFFSETFROM:+0200
TZOFFSETTO:+0100
TZNAME:CET
DTSTART:20231029T010000
END:STANDARD
BEGIN:DAYLIGHT
TZOFFSETFROM:+0100
TZOFFSETTO:+0200
TZNAME:CEST
DTSTART:20240331T010000
END:DAYLIGHT
BEGIN:STANDARD
TZOFFSETFROM:+0200
TZOFFSETTO:+0100
TZNAME:CET
DTSTART:20241027T010000
END:STANDARD
END:VTIMEZONE
BEGIN:VTIMEZONE
TZID:America/Toronto
BEGIN:DAYLIGHT
TZOFFSETFROM:-0500
TZOFFSETTO:-0400
TZNAME:EDT
DTSTART:20220313T070000
END:DAYLIGHT
BEGIN:STANDARD
TZOFFSETFROM:-0400
TZOFFSETTO:-0500
TZNAME:EST
DTSTART:20221106T060000
END:STANDARD
BEGIN:DAYLIGHT
TZOFFSETFROM:-0500
TZOFFSETTO:-0400
TZNAME:EDT
DTSTART:20230312T070000
END:DAYLIGHT
BEGIN:STANDARD
TZOFFSETFROM:-0400
TZOFFSETTO:-0500
TZNAME:EST
DTSTART:20231105T060000
END:STANDARD
BEGIN:DAYLIGHT
TZOFFSETFROM:-0500
TZOFFSETTO:-0400
TZNAME:EDT
DTSTART:20240310T070000
END:DAYLIGHT
BEGIN:STANDARD
TZOFFSETFROM:-0400
TZOFFSETTO:-0500
TZNAME:EST
DTSTART:20241103T060000
END:STANDARD
END:VTIMEZONE
BEGIN:VEVENT
DTSTART;TZID=Europe/Berlin:20230903T190000
DTEND;TZID=Europe/Berlin:20230905T230000
DTSTAMP:20260425T112410
CREATED:20220915T151723Z
LAST-MODIFIED:20230106T170102Z
UID:1490-1693767600-1693954800@www.planethelix.com
SUMMARY:Indoor Summer 2023
DESCRIPTION:SEP 1\, 2023 AT 7 AM – SEP 3\, 2023 AT 5:59 PM EDT\n\nIndoor Summer 2023\n\nMarkthalle-Hamburg\n\nDer traditionsreiche Live-Musik-Club am Hauptbahnhof\n#Markthallesince1977 #GrosserSaal #MarX #Kunstraum\nTickets zu allen Veranstaltungen unter www.markthalle-hamburg.de\n-PLEASE DO NOT CONTACT US HERE FOR BOOKING REQUESTS-\n-SEND AN EMAIL INSTEAD-\n  \nTickets Here:   teamfortheshow.com/de/event/indoor-summer-2023
URL:https://www.planethelix.com/event/indoor-summer-2023/
LOCATION:Markthalle-Hamburg\, Klosterwall 11\, 20095\, Hamburg\, 20095\, Germany
ATTACH;FMTTYPE=image/webp:https://www.planethelix.com/wp-content/uploads/2022/09/305755619_530456615548919_7311411689067030961_n.webp
END:VEVENT
BEGIN:VEVENT
DTSTART;TZID=America/Toronto:20230929T190000
DTEND;TZID=America/Toronto:20230929T233000
DTSTAMP:20260425T112410
CREATED:20230216T224808Z
LAST-MODIFIED:20230911T004429Z
UID:1543-1696014000-1696030200@www.planethelix.com
SUMMARY:HELIX WITH SPECIAL GUESTS  80's GONE WILD
DESCRIPTION:Olde Walkerville Theatre Presents \n  \n\nHELIX\n\n\nWITH SPECIAL GUESTS  80’s GONE WILD\n\n\n\nFriday\, September 29\, 2023\n\n\nDoors Open 7:00pm | Show 8:00pm\nYOU MUST BE 19+ TO ATTEND  \n\n\nOlde Walkerville Theatre\n1564 Wyandotte Street East\, Windsor
URL:https://www.planethelix.com/event/helix-with-special-guests-80s-gone-wild/
LOCATION:Olde Walkerville Theatre\, 1564 Wyandotte Street East\, Windsor\, https://www.oldewalkervilletheatre.com/\, Canada
ATTACH;FMTTYPE=image/webp:https://www.planethelix.com/wp-content/uploads/2023/02/331424611_691214186079345_4286641445415587747_n.webp
END:VEVENT
BEGIN:VEVENT
DTSTART;TZID=America/Toronto:20230930T193000
DTEND;TZID=America/Toronto:20230930T193000
DTSTAMP:20260425T112410
CREATED:20230217T021611Z
LAST-MODIFIED:20230911T004627Z
UID:1554-1696102200-1696102200@www.planethelix.com
SUMMARY:HELIX LIVE AT MAXWELLS
DESCRIPTION:September 30th Maxwell’s Waterloo\, Ontario. Tickets available through Maxwells
URL:https://www.planethelix.com/event/helix-live-at-maxwells/
LOCATION:Maxwells\, Maxwell’s Concerts and Events\, University Avenue East\, Waterloo\, ON
ATTACH;FMTTYPE=image/webp:https://www.planethelix.com/wp-content/uploads/2023/02/Helix-Poster-Maxwells.webp
END:VEVENT
END:VCALENDAR