BEGIN:VCALENDAR
VERSION:2.0
PRODID:-//Planet Helix - ECPv6.15.20//NONSGML v1.0//EN
CALSCALE:GREGORIAN
METHOD:PUBLISH
X-WR-CALNAME:Planet Helix
X-ORIGINAL-URL:https://www.planethelix.com
X-WR-CALDESC:Events for Planet Helix
REFRESH-INTERVAL;VALUE=DURATION:PT1H
X-Robots-Tag:noindex
X-PUBLISHED-TTL:PT1H
BEGIN:VTIMEZONE
TZID:America/Toronto
BEGIN:DAYLIGHT
TZOFFSETFROM:-0500
TZOFFSETTO:-0400
TZNAME:EDT
DTSTART:20230312T070000
END:DAYLIGHT
BEGIN:STANDARD
TZOFFSETFROM:-0400
TZOFFSETTO:-0500
TZNAME:EST
DTSTART:20231105T060000
END:STANDARD
BEGIN:DAYLIGHT
TZOFFSETFROM:-0500
TZOFFSETTO:-0400
TZNAME:EDT
DTSTART:20240310T070000
END:DAYLIGHT
BEGIN:STANDARD
TZOFFSETFROM:-0400
TZOFFSETTO:-0500
TZNAME:EST
DTSTART:20241103T060000
END:STANDARD
BEGIN:DAYLIGHT
TZOFFSETFROM:-0500
TZOFFSETTO:-0400
TZNAME:EDT
DTSTART:20250309T070000
END:DAYLIGHT
BEGIN:STANDARD
TZOFFSETFROM:-0400
TZOFFSETTO:-0500
TZNAME:EST
DTSTART:20251102T060000
END:STANDARD
END:VTIMEZONE
BEGIN:VTIMEZONE
TZID:America/Edmonton
BEGIN:DAYLIGHT
TZOFFSETFROM:-0700
TZOFFSETTO:-0600
TZNAME:MDT
DTSTART:20230312T090000
END:DAYLIGHT
BEGIN:STANDARD
TZOFFSETFROM:-0600
TZOFFSETTO:-0700
TZNAME:MST
DTSTART:20231105T080000
END:STANDARD
BEGIN:DAYLIGHT
TZOFFSETFROM:-0700
TZOFFSETTO:-0600
TZNAME:MDT
DTSTART:20240310T090000
END:DAYLIGHT
BEGIN:STANDARD
TZOFFSETFROM:-0600
TZOFFSETTO:-0700
TZNAME:MST
DTSTART:20241103T080000
END:STANDARD
BEGIN:DAYLIGHT
TZOFFSETFROM:-0700
TZOFFSETTO:-0600
TZNAME:MDT
DTSTART:20250309T090000
END:DAYLIGHT
BEGIN:STANDARD
TZOFFSETFROM:-0600
TZOFFSETTO:-0700
TZNAME:MST
DTSTART:20251102T080000
END:STANDARD
END:VTIMEZONE
BEGIN:VEVENT
DTSTART;TZID=America/Toronto:20240511T200000
DTEND;TZID=America/Toronto:20240511T230000
DTSTAMP:20260424T213626
CREATED:20231219T031347Z
LAST-MODIFIED:20231219T031347Z
UID:1640-1715457600-1715468400@www.planethelix.com
SUMMARY:HONEYMOON SUITE // HELIX May 11 2024
DESCRIPTION:HONEYMOON SUITE // HELIX\n\nHoneymoon Suite is a Candian Rock band formed in 1981. It’s current members consist of Johnnie Dee\, Derry Grehan\, Peter Nunn\, Gary Lalonde\, and Dave Betts. Honeymoon Suite is named after the famous landmark in the center of the tourist activity in Niagara Falls. Hit songs include “New Girl Now\,” “Burning In Love\,” “Wave Babies\,” and “Stay In the Light\,” “Bad Attitude\,” “Feel It Again\,” “What Does It Take\,” “All Along You Knew\,” and MORE! \nOver their career Helix have played 19 different countries across the world and sold close to 2 million albums. They have played with over 200 of the world’s greatest acts including KISS\, Motorhead\, Rush\, Meatloaf\, Heart\, Accept\, Whitesnake\, Quiet Riot\, Triumph\, and many more.  Hits include “Rock You\, “Heavy Metal Love\,” ” (Make Me Do) Anything You Want\,” ” Deep Cuts The Knife”\, and MORE!
URL:https://www.planethelix.com/event/honeymoon-suite-helix-may-11-2024/
LOCATION:ARCADA THEATRE\, 105 E. Main St.\, St. Charles IL 60174\, Charles\, Illinois\, 60174\, United States
ATTACH;FMTTYPE=image/webp:https://www.planethelix.com/wp-content/uploads/2023/12/Honeymoon-Suite-Helix-web.webp
END:VEVENT
BEGIN:VEVENT
DTSTART;TZID=America/Edmonton:20240518T210000
DTEND;TZID=America/Edmonton:20240518T230000
DTSTAMP:20260424T213626
CREATED:20240205T210348Z
LAST-MODIFIED:20240205T211856Z
UID:1648-1716066000-1716073200@www.planethelix.com
SUMMARY:Aldo Nova & HELIX  River Cree Resort & Casino
DESCRIPTION:ALDO NOVA:  \nAfter four decades\, dozens of classic songs\, and hundreds of shows\, multi-platinum GRAMMY® Award-winning singer\, songwriter\, producer\, guitarist\, and multi-instrumentalist ALDO NOVA can finally be seen alive and kicking after a long self-imposed hiatus. \nAldo Nova took the world by storm when his first multi-platinum\, top ten self-titled debut album\, Aldo Nova\, gave the world the definitive Rock Anthem “Fantasy.” On its heels came the platinum-selling Subject…Aldo Nova yielded another massive anthem\,” Monkey on Your Back.” He made his third and last album\, titled “Twitch\,” for Portrait Records\, a division of CBS Records\, now called Sony Music when the executives at the record company wanted to take creative control and forced Aldo to do songs that he didn’t write. \nHELIX: \n2010 sees the release of Helix’s 14th studio CD entitled “Vagabond Bones” featuring the re-united original 80’s line-up of Greg “Fritz” Hinz\, Brent “The Doctor” Doerner\, Daryl Gray\, and Brian Vollmer\, along with newcomer shredder Kaleb Duck. The CD contains nine previously unreleased studio tracks\, one of which features a duet between Brian and Russ Graham of The Killer Dwarfs on the song “Hung Over But Still Hanging In.” Most of the songs were co-writes between Brian and Sean Kelly\, who now plays guitar for Nelly Furtado. On four of the tracks\, Moe Berg of Pursuit of Happiness was also a co-writer. \nMust be 18+ \nGet your tickets NOW! \nBUY TICKETS NOW
URL:https://www.planethelix.com/event/aldo-nova-helix-river-cree-resort-casino/
LOCATION:River Cree Resort & Casino\, 300 East Lapotac Blvd Box 179 Enoch\, Alberta T7X 3Y3\, Enoch\, Alberta\, T7X 3Y3\, Canada
ATTACH;FMTTYPE=image/webp:https://www.planethelix.com/wp-content/uploads/2024/02/AldoNovaHelix2024-PPT-InternalSlide.webp
END:VEVENT
END:VCALENDAR