BEGIN:VCALENDAR
VERSION:2.0
PRODID:-//Planet Helix - ECPv6.15.20//NONSGML v1.0//EN
CALSCALE:GREGORIAN
METHOD:PUBLISH
X-WR-CALNAME:Planet Helix
X-ORIGINAL-URL:https://www.planethelix.com
X-WR-CALDESC:Events for Planet Helix
REFRESH-INTERVAL;VALUE=DURATION:PT1H
X-Robots-Tag:noindex
X-PUBLISHED-TTL:PT1H
BEGIN:VTIMEZONE
TZID:America/Toronto
BEGIN:DAYLIGHT
TZOFFSETFROM:-0500
TZOFFSETTO:-0400
TZNAME:EDT
DTSTART:20230312T070000
END:DAYLIGHT
BEGIN:STANDARD
TZOFFSETFROM:-0400
TZOFFSETTO:-0500
TZNAME:EST
DTSTART:20231105T060000
END:STANDARD
BEGIN:DAYLIGHT
TZOFFSETFROM:-0500
TZOFFSETTO:-0400
TZNAME:EDT
DTSTART:20240310T070000
END:DAYLIGHT
BEGIN:STANDARD
TZOFFSETFROM:-0400
TZOFFSETTO:-0500
TZNAME:EST
DTSTART:20241103T060000
END:STANDARD
BEGIN:DAYLIGHT
TZOFFSETFROM:-0500
TZOFFSETTO:-0400
TZNAME:EDT
DTSTART:20250309T070000
END:DAYLIGHT
BEGIN:STANDARD
TZOFFSETFROM:-0400
TZOFFSETTO:-0500
TZNAME:EST
DTSTART:20251102T060000
END:STANDARD
END:VTIMEZONE
BEGIN:VEVENT
DTSTART;TZID=America/Toronto:20240914T190000
DTEND;TZID=America/Toronto:20240914T230000
DTSTAMP:20260424T145714
CREATED:20240513T160750Z
LAST-MODIFIED:20240513T170845Z
UID:1684-1726340400-1726354800@www.planethelix.com
SUMMARY:Helix: Acoustic Songs & and 50 years of Road Stories
DESCRIPTION:Event Details\nEvent type: Licensed \nHelix is celebrating it’s 50th Anniversary this year!   Come see their acoustic show complete with road stories and and an audio visual presentation of footage never seen before.  In between the band plays the hits and a few songs that were key to their career.  Special guest Michelle Truman from the band TORONTO will also make a rare guest appearance.  The band will be playing  two sets that night.  Afterwards they will appear by the merch booth to sign autographs\, take pictures\, and chat with fans.  The band will also be dining in Capitol 33’s dining room before the show.  Come check it out and stop by to say hello to the band.  We’re not allergic to our fans-in fact\, we like ’em! \nAfter the show everyone is welcome to take photos with the band and get autographs! \nSee other upcoming events around the Delhi area \n\nCapitol 33 • 93 King Street • Delhi\, ON \n\nDoors Open: 7:00PM | Show Starts: 8:30PM | Licensed \nFeaturing: Helix \n  \n 
URL:https://www.planethelix.com/event/helix-acoustic-songs-and-50-years-of-road-stories/
LOCATION:Capitol + Lounge Thirty-Three\, 93 King St.\, Delhi\, ON\, N4B 1X7\, Delhi\, Ontario\, N4B 1X7\, Canada
ATTACH;FMTTYPE=image/webp:https://www.planethelix.com/wp-content/uploads/2024/05/Helix-Live-at-Capitol-33.webp
ORGANIZER;CN="Capitol + Lounge Thirty-Three":MAILTO:info@capitol33.ca
END:VEVENT
END:VCALENDAR