BEGIN:VCALENDAR
VERSION:2.0
PRODID:-//Planet Helix - ECPv6.15.20//NONSGML v1.0//EN
CALSCALE:GREGORIAN
METHOD:PUBLISH
X-WR-CALNAME:Planet Helix
X-ORIGINAL-URL:https://www.planethelix.com
X-WR-CALDESC:Events for Planet Helix
REFRESH-INTERVAL;VALUE=DURATION:PT1H
X-Robots-Tag:noindex
X-PUBLISHED-TTL:PT1H
BEGIN:VTIMEZONE
TZID:America/Toronto
BEGIN:DAYLIGHT
TZOFFSETFROM:-0500
TZOFFSETTO:-0400
TZNAME:EDT
DTSTART:20230312T070000
END:DAYLIGHT
BEGIN:STANDARD
TZOFFSETFROM:-0400
TZOFFSETTO:-0500
TZNAME:EST
DTSTART:20231105T060000
END:STANDARD
BEGIN:DAYLIGHT
TZOFFSETFROM:-0500
TZOFFSETTO:-0400
TZNAME:EDT
DTSTART:20240310T070000
END:DAYLIGHT
BEGIN:STANDARD
TZOFFSETFROM:-0400
TZOFFSETTO:-0500
TZNAME:EST
DTSTART:20241103T060000
END:STANDARD
BEGIN:DAYLIGHT
TZOFFSETFROM:-0500
TZOFFSETTO:-0400
TZNAME:EDT
DTSTART:20250309T070000
END:DAYLIGHT
BEGIN:STANDARD
TZOFFSETFROM:-0400
TZOFFSETTO:-0500
TZNAME:EST
DTSTART:20251102T060000
END:STANDARD
END:VTIMEZONE
BEGIN:VEVENT
DTSTART;TZID=America/Toronto:20241122T180000
DTEND;TZID=America/Toronto:20241122T233000
DTSTAMP:20260424T113835
CREATED:20240916T235109Z
LAST-MODIFIED:20240916T235109Z
UID:1733-1732298400-1732318200@www.planethelix.com
SUMMARY:Helix & Kick Axe
DESCRIPTION:EVENT\n\n\n\n\n\n\nHelix & Kick Axe\nNOV 22\n6:00pm Doors | 7:00pm EventAll ages  \nTickets Starting at $35.00*\n\n\nPublic Onsale\nAug 15
URL:https://www.planethelix.com/event/helix-kick-axe/
LOCATION:Club Regent Casino\, 1425 Regent Avenue West Winnipeg\, Manitoba\, Canada R2C 3B2\, Winnipeg\, Manitoba\, R2C 3B2\, Canada
ATTACH;FMTTYPE=image/webp:https://www.planethelix.com/wp-content/uploads/2024/09/helix-kick-axe-1080x1080-1.webp
END:VEVENT
END:VCALENDAR