BEGIN:VCALENDAR
VERSION:2.0
PRODID:-//Planet Helix - ECPv6.15.20//NONSGML v1.0//EN
CALSCALE:GREGORIAN
METHOD:PUBLISH
X-ORIGINAL-URL:https://www.planethelix.com
X-WR-CALDESC:Events for Planet Helix
REFRESH-INTERVAL;VALUE=DURATION:PT1H
X-Robots-Tag:noindex
X-PUBLISHED-TTL:PT1H
BEGIN:VTIMEZONE
TZID:America/Toronto
BEGIN:DAYLIGHT
TZOFFSETFROM:-0500
TZOFFSETTO:-0400
TZNAME:EDT
DTSTART:20240310T070000
END:DAYLIGHT
BEGIN:STANDARD
TZOFFSETFROM:-0400
TZOFFSETTO:-0500
TZNAME:EST
DTSTART:20241103T060000
END:STANDARD
BEGIN:DAYLIGHT
TZOFFSETFROM:-0500
TZOFFSETTO:-0400
TZNAME:EDT
DTSTART:20250309T070000
END:DAYLIGHT
BEGIN:STANDARD
TZOFFSETFROM:-0400
TZOFFSETTO:-0500
TZNAME:EST
DTSTART:20251102T060000
END:STANDARD
BEGIN:DAYLIGHT
TZOFFSETFROM:-0500
TZOFFSETTO:-0400
TZNAME:EDT
DTSTART:20260308T070000
END:DAYLIGHT
BEGIN:STANDARD
TZOFFSETFROM:-0400
TZOFFSETTO:-0500
TZNAME:EST
DTSTART:20261101T060000
END:STANDARD
END:VTIMEZONE
BEGIN:VEVENT
DTSTART;TZID=America/Toronto:20250614T180000
DTEND;TZID=America/Toronto:20250614T233000
DTSTAMP:20260423T233227
CREATED:20250324T192519Z
LAST-MODIFIED:20250324T192734Z
UID:1857-1749924000-1749943800@www.planethelix.com
SUMMARY:Honeymoon Suite with Helix & Harlequin
DESCRIPTION:ECPG Presents an ALL Canadian Rock Concert ft: HONEYMOON SUITE\, HELIX\, and Harlequin!\nSaturday\, June 14/25 \nMOLSON CANADIAN CENTRE at Casino New Brunswick!\nTICKETS ON SALE FRIDAY\, March 28th at 10am!\nThe East Coast Production Group invites you to join us on Saturday\, June 14/2025\, when THREE of Canada’s absolute finest Canadian Rock Icons return to Moncton for ONE SHOW ONLY! Come\, and help us celebrate Canada with HONEYMOON SUITE\, HELIX and HARLEQUIN at the Molson Canadian Centre at Casino\, NB! \nTickets for this seated\, triple-bill\, all-ages event go on sale Friday\, March 28th at 10am. Tickets will be available online at www.ecpg.ca. ECPG insiders have received an exclusive presale code effective from 10am\, Tuesday\, March 25\, until 10pm Thursday\, March 27th\, allowing first dibs of the best seats in the house!\nDoors open at 6pm with Harlequin taking the stage at 7pm on June 14th. \nAbout HONEYMOON SUITE:\nThe band was originally formed in 1981 and their self-titled debut album\, was released in June 1984. The album featured four charting hits in Canada: a completely re-recorded version of “New Girl Now\,” “Burning In Love\,” “Wave Babies\,” and “Stay In the Light.” “New Girl Now” was also Honeymoon Suite’s first single to reach the top-50 in the United States. In September 2019\, the band released their new single “Tell Me What You Want” on YouTube. On June 19\, 2020\, they issued another single entitled “Find What You’re Looking For.” On February 16\, 2024\, Honeymoon Suite released their new album entitled Alive through Frontiers music. \nAbout HELIX:\nExciting things have been happening throughout Helix’s career. The band\, formed in 1974 in Kitchener\, Ontario\, has sold over 2\,000\,000 albums\, had four gold and 2 platinum albums\, has had a Number One record in the country of Sweden\, has toured 19 countries\, 3 continents\, and played with over 150 of the greatest rock and roll recording acts in the world. A list of acts the band has played with over the years sounds like a who’s-who of rock & roll: Motorhead\, KISS\, Motley Crue\, Accept\, Girlschool\, Heart\, Whitesnake\, The Scorpions\, Megadeath\, Mercyful Fate\, Quiet Riot\, Meatloaf\, Ronnie James Dio\, and over 100 more! Also\, the band has released many videos over the years and have had many songs on TV shows and in movies \nAbout HARLEQUIN:\nHarlequin is a prominent Canadian rock band that originated in 1975 and continues to thrill audiences to this day. The band has produced a series of notable hits\, such as “Innocence\,” “I Did It for Love\,” “Superstitious Feeling\,” and “Sweet Things in Life.” Over the course of five decades\, their performances have consistently enthralled audiences across Canada\, the United States\, and South America. Harlequin is particularly renowned for its vibrant live shows and has received nominations for Juno Awards\, in addition to being inducted into the Western Canadian Hall of Fame. Lead vocalist George Belanger has played a crucial role in the band’s success\, collaborating with talented musicians who share a dedication to live performance. The current lineup includes original member Gary Golden on keyboards and guitar\, guitarist Derrick Gottfried\, drummer AJ Chabidon\, and songwriter\, vocalist\, and bassist Chris Burke Gaffney\, who has previously performed with The Pumps and Orphan.
URL:https://www.planethelix.com/event/honeymoon-suite-with-helix-harlequin/
LOCATION:Molson Canadian Centre at Casino New/Nouveau Brunswick\, 21 Casino Drive.\, Moncton\, NB\, E1G0R7\, Canada
ATTACH;FMTTYPE=image/webp:https://www.planethelix.com/wp-content/uploads/2025/03/485858121_1078582730974155_5695679153324807500_n.webp
END:VEVENT
BEGIN:VEVENT
DTSTART;TZID=America/Toronto:20250627T190000
DTEND;TZID=America/Toronto:20250627T233000
DTSTAMP:20260423T233227
CREATED:20250118T202028Z
LAST-MODIFIED:20250223T135823Z
UID:1798-1751050800-1751067000@www.planethelix.com
SUMMARY:London\, On Helix With Special Guests Enuff Z Nuff & HOWZAT
DESCRIPTION:https://www.ticketweb.ca/event/helix-the-retirement-tour-cowboys-ranch-london-tickets/14223103 \nThis event is 19 and over. Any ticket holder unable to present valid identification indicating that they are at least 19 years of age will not be admitted to this event\, and will not be eligible for a refund.
URL:https://www.planethelix.com/event/helix-with-special-guests-enuff-z-nuff-howzat/
LOCATION:Cowboys Ranch London\, 60 Wharncliffe Rd N.\, London\, ONTARIO\, N6H 2A3\, Canada
ATTACH;FMTTYPE=image/webp:https://www.planethelix.com/wp-content/uploads/2025/01/480714273_10170889143505515_4267744233482635192_n.webp
ORGANIZER;CN="STUDIO73 DIGITAL MEDIA":MAILTO:Jay@Studio73digitalmedia.com
END:VEVENT
BEGIN:VEVENT
DTSTART;TZID=America/Toronto:20250628T190000
DTEND;TZID=America/Toronto:20250628T233000
DTSTAMP:20260423T233227
CREATED:20250118T202315Z
LAST-MODIFIED:20250223T135845Z
UID:1801-1751137200-1751153400@www.planethelix.com
SUMMARY:Kitchener - Helix With Special Guests Enuff Z Nuff & HOWZAT
DESCRIPTION:https://www.ticketweb.ca/event/helix-the-retirement-tour-elements-tickets/14223063 \nThis event is 19 and over. Any ticket holder unable to present valid identification indicating that they are at least 19 years of age will not be admitted to this event\, and will not be eligible for a refund.
URL:https://www.planethelix.com/event/helix-with-special-guests-enuff-z-nuff-howzat-2/
LOCATION:Elements  Kitchener\, 90 King St W.\, Kitchener\, ONTARIO\, N2G 1A6
ATTACH;FMTTYPE=image/webp:https://www.planethelix.com/wp-content/uploads/2025/01/480796019_10170889143630515_1839571590294430391_n.webp
ORGANIZER;CN="STUDIO73 DIGITAL MEDIA":MAILTO:Jay@Studio73digitalmedia.com
END:VEVENT
END:VCALENDAR