BEGIN:VCALENDAR
VERSION:2.0
PRODID:-//Planet Helix - ECPv6.15.20//NONSGML v1.0//EN
CALSCALE:GREGORIAN
METHOD:PUBLISH
X-ORIGINAL-URL:https://www.planethelix.com
X-WR-CALDESC:Events for Planet Helix
REFRESH-INTERVAL;VALUE=DURATION:PT1H
X-Robots-Tag:noindex
X-PUBLISHED-TTL:PT1H
BEGIN:VTIMEZONE
TZID:America/Toronto
BEGIN:DAYLIGHT
TZOFFSETFROM:-0500
TZOFFSETTO:-0400
TZNAME:EDT
DTSTART:20240310T070000
END:DAYLIGHT
BEGIN:STANDARD
TZOFFSETFROM:-0400
TZOFFSETTO:-0500
TZNAME:EST
DTSTART:20241103T060000
END:STANDARD
BEGIN:DAYLIGHT
TZOFFSETFROM:-0500
TZOFFSETTO:-0400
TZNAME:EDT
DTSTART:20250309T070000
END:DAYLIGHT
BEGIN:STANDARD
TZOFFSETFROM:-0400
TZOFFSETTO:-0500
TZNAME:EST
DTSTART:20251102T060000
END:STANDARD
BEGIN:DAYLIGHT
TZOFFSETFROM:-0500
TZOFFSETTO:-0400
TZNAME:EDT
DTSTART:20260308T070000
END:DAYLIGHT
BEGIN:STANDARD
TZOFFSETFROM:-0400
TZOFFSETTO:-0500
TZNAME:EST
DTSTART:20261101T060000
END:STANDARD
END:VTIMEZONE
BEGIN:VEVENT
DTSTART;TZID=America/Toronto:20250822T180000
DTEND;TZID=America/Toronto:20250822T233000
DTSTAMP:20260423T201017
CREATED:20250415T043738Z
LAST-MODIFIED:20250415T043738Z
UID:1873-1755885600-1755905400@www.planethelix.com
SUMMARY:HELIX - Shake The Lake 2025
DESCRIPTION: JUST ANNOUNCED! Shake The Lake 2025\, presented by Brandt Community\, News & Careers\, is BACK this summer with an all-Canadian lineup of rock legends and fan favourites! August 22 & 23 Conexus Arts Centre\, outdoors by beautiful Wascana Lake Early bird tickets are ON SALE THURSDAY\, APRIL 17 AT NOON – while quantities last! No price increase from last year! LINEUP:FRIDAY:HelixFinger ElevenDefaultSATURDAY:The KingsThe StampedersTrooperHeadstonesEnjoy two unforgettable nights of live music PLUS: Food Trucks |  Vendor Village |  Games Area |  Festival FunThis is the Canadian rock weekend you don’t want to miss. Let’s shake it up\, Regina!  Get your tickets at → https://conexusartscentre.ca/shake-the-lake-regina/
URL:https://www.planethelix.com/event/helix-shake-the-lake-2025/
LOCATION:Shake The Lake\, 200 Lakeshore Drive\, Regina\, SK\, Canada
ATTACH;FMTTYPE=image/webp:https://www.planethelix.com/wp-content/uploads/2025/04/490915208_1087952800014933_1783274161119547700_n.webp
END:VEVENT
END:VCALENDAR