BEGIN:VCALENDAR
VERSION:2.0
PRODID:-//Planet Helix - ECPv6.15.20//NONSGML v1.0//EN
CALSCALE:GREGORIAN
METHOD:PUBLISH
X-ORIGINAL-URL:https://www.planethelix.com
X-WR-CALDESC:Events for Planet Helix
REFRESH-INTERVAL;VALUE=DURATION:PT1H
X-Robots-Tag:noindex
X-PUBLISHED-TTL:PT1H
BEGIN:VTIMEZONE
TZID:America/Toronto
BEGIN:DAYLIGHT
TZOFFSETFROM:-0500
TZOFFSETTO:-0400
TZNAME:EDT
DTSTART:20240310T070000
END:DAYLIGHT
BEGIN:STANDARD
TZOFFSETFROM:-0400
TZOFFSETTO:-0500
TZNAME:EST
DTSTART:20241103T060000
END:STANDARD
BEGIN:DAYLIGHT
TZOFFSETFROM:-0500
TZOFFSETTO:-0400
TZNAME:EDT
DTSTART:20250309T070000
END:DAYLIGHT
BEGIN:STANDARD
TZOFFSETFROM:-0400
TZOFFSETTO:-0500
TZNAME:EST
DTSTART:20251102T060000
END:STANDARD
BEGIN:DAYLIGHT
TZOFFSETFROM:-0500
TZOFFSETTO:-0400
TZNAME:EDT
DTSTART:20260308T070000
END:DAYLIGHT
BEGIN:STANDARD
TZOFFSETFROM:-0400
TZOFFSETTO:-0500
TZNAME:EST
DTSTART:20261101T060000
END:STANDARD
END:VTIMEZONE
BEGIN:VTIMEZONE
TZID:America/Edmonton
BEGIN:DAYLIGHT
TZOFFSETFROM:-0700
TZOFFSETTO:-0600
TZNAME:MDT
DTSTART:20240310T090000
END:DAYLIGHT
BEGIN:STANDARD
TZOFFSETFROM:-0600
TZOFFSETTO:-0700
TZNAME:MST
DTSTART:20241103T080000
END:STANDARD
BEGIN:DAYLIGHT
TZOFFSETFROM:-0700
TZOFFSETTO:-0600
TZNAME:MDT
DTSTART:20250309T090000
END:DAYLIGHT
BEGIN:STANDARD
TZOFFSETFROM:-0600
TZOFFSETTO:-0700
TZNAME:MST
DTSTART:20251102T080000
END:STANDARD
BEGIN:DAYLIGHT
TZOFFSETFROM:-0700
TZOFFSETTO:-0600
TZNAME:MDT
DTSTART:20260308T090000
END:DAYLIGHT
BEGIN:STANDARD
TZOFFSETFROM:-0600
TZOFFSETTO:-0700
TZNAME:MST
DTSTART:20261101T080000
END:STANDARD
END:VTIMEZONE
BEGIN:VEVENT
DTSTART;TZID=America/Toronto:20251009T190000
DTEND;TZID=America/Toronto:20251009T230000
DTSTAMP:20260423T164145
CREATED:20250828T143923Z
LAST-MODIFIED:20250828T143923Z
UID:1909-1760036400-1760050800@www.planethelix.com
SUMMARY:Hard Rock Hotel & Casino Nazareth – Helix w/PRISM
DESCRIPTION:Nazareth\n\n\n\n\n\n\n\n\nThursday\, October 9 | Doors open at 7:00PM\n\n\nHard Rock Live\n\n\n\n\n\n\n\n\n\n\nNazareth is a legendary Scottish hard rock band formed in 1968 in Dunfermline\, Scotland. Rising to fame in the 1970s\, they became international rock icons with hits like “Hair of the Dog” and their powerful cover of “Love Hurts.” Known for their gritty vocals and blues-infused rock sound\, Nazareth has sold millions of albums worldwide and continues to tour over 50 years later. With a legacy rooted in raw energy and timeless anthems\, they remain a staple of classic rock history.
URL:https://www.planethelix.com/event/hard-rock-hotel-casino-nazareth-helix-w-prism/
LOCATION:Hard Rock Hotel & Casino Ottawa\, 4837 Albion Road\, Ottawa\, Ontario\, K1X 1A3\, Canada
ATTACH;FMTTYPE=image/webp:https://www.planethelix.com/wp-content/uploads/2025/06/504222517_18313367689229576_3367460360116401672_n.webp
END:VEVENT
BEGIN:VEVENT
DTSTART;TZID=America/Toronto:20251010T080000
DTEND;TZID=America/Toronto:20251010T170000
DTSTAMP:20260423T164145
CREATED:20250603T200527Z
LAST-MODIFIED:20250603T200527Z
UID:1883-1760083200-1760115600@www.planethelix.com
SUMMARY:Nazareth/HELIX/The Killer Dwarfs - Casino Rama
DESCRIPTION:Nazareth Canadian Farewell Tour Special Guests Helix & Killer Dwarfs\n\n\nImportant Event Info: Net Capacity: 4974\n12+ years of age for entry\n\n\nNazareth/HELIX/The Killer Dwarfs@Casino Rama
URL:https://www.planethelix.com/event/nazareth-helix-the-killer-dwarfs-casino-rama/
LOCATION:Casino Rama\, 5899 Rama Rd.\, Orillia\, ON\, L3V 6H6
ATTACH;FMTTYPE=image/webp:https://www.planethelix.com/wp-content/uploads/2025/06/504222517_18313367689229576_3367460360116401672_n.webp
END:VEVENT
BEGIN:VEVENT
DTSTART;TZID=America/Toronto:20251011T190000
DTEND;TZID=America/Toronto:20251011T233000
DTSTAMP:20260423T164145
CREATED:20250603T200914Z
LAST-MODIFIED:20250603T201750Z
UID:1886-1760209200-1760225400@www.planethelix.com
SUMMARY:Nazareth & HELIX - The Pickering Casino
DESCRIPTION:Nazareth: Canadian Farewell Tour\nNazareth\nFormed in Dunfermline\, Scotland in 1968\, Nazareth rose to international fame with a gritty\, hard-edged sound and unforgettable tracks like “Hair of the Dog\,” “Love Hurts\,” “Razamanaz\,” and “This Flight Tonight.” Known for their raw vocals\, searing guitar work\, and enduring energy\, Nazareth earned a place among rock’s elite with over 20 studio albums and millions of records sold worldwide. \nWith Special Guests: Helix\nFormed in Calgary\, Alberta in 1974\, Helix became a powerhouse in Canadian hard rock and heavy metal with hits like “Rock You\,” “Deep Cuts the Knife\,” and “Wild in the Streets.” Known for their high-energy performances and catchy\, riff-driven songs\, Helix earned a dedicated fanbase and multiple gold albums throughout the ’80s. Their enduring spirit and classic sound continue to make them a staple of the Canadian rock scene. \nTickets\nTickets are available on ticketmaster.ca or at the Box Office 90 minutes prior to any show time. \nThis is an all ages event. \nStay The Night\nStay in a beautiful king or queen room or unwind in an elegant and spacious suite in our integrated hotel. Book Now. \nGet Tickets Book Hotel
URL:https://www.planethelix.com/event/nazareth-helix-the-pickering-casino/
LOCATION:Pickering Casino Resort\, 888 Durham Live Ave\,\, Pickering\, ON\, L1W 0C1\, Canada
ATTACH;FMTTYPE=image/webp:https://www.planethelix.com/wp-content/uploads/2025/06/504222517_18313367689229576_3367460360116401672_n.webp
END:VEVENT
BEGIN:VEVENT
DTSTART;TZID=America/Edmonton:20251020T190000
DTEND;TZID=America/Edmonton:20251020T233000
DTSTAMP:20260423T164145
CREATED:20250603T201311Z
LAST-MODIFIED:20250603T201837Z
UID:1889-1760986800-1761003000@www.planethelix.com
SUMMARY:Nazareth & HELIX - Calgary/Grey Eagle Resort & Casino
DESCRIPTION:Nazareth Canadian Farewell Tour\n\n\n\n\n\n\nNazareth is without a doubt the biggest rock band to emerge from Scotland. \n\nAbout this performance\n\nNazareth were the pioneers who took Scottish Rock international and paved the way for the many other great Scottish bands that came later …. the likes of Big Country\, Simple Minds etc.The original members first came together in Pete Agnew’s band “The Shadettes” in 1968 and changed the name to NAZARETH in 1970. \nThey toured with Deep Purple in the early 70’s where they met Roger Glover who produced their breakthrough album Razamanaz in 1973 that included the hits Broken Down Angel and Bad Bad Boy. The album was followed by Loud’n’Proud later the same year featuring the single This Flight Tonight which became a massive hit throughout Europe and sent the band to number 1 in Germany. It was also a huge hit in Canada where the band became the first foreign band to do a coast to coast tour of the country that wasn’t just part of a North America tour. When they arrived in the country they were told it was the fastest selling Canadian tour of all time and in fact had sold out faster than Elvis who had been there recently. As you can imagine\, you can still hear a host of “faster than Elvis” jokes in Nazareth dressing rooms to this day. \nThen came Rampant and the massive tour in support of it’s release seeing the band play 50 shows in 9 countries throughout Europe and Scandinavia. The tour was quickly followed by the release of the single My White Bicycle which gave them another chart hit in UK and Germany. They were now riding a crest of popularity around the world but still had not managed to get that elusive American hit that every band needs to prove that they really are a global success. As it turns out\, that hit was just around the comer.\nThe classic album that brought them American success and international acclaim was the next one\, Hair Of The Dog and it’s title track (popularly\, though incorrectly known as “Sonofabitch’ due to it’s hook lyric) became a staple of Rock Radio throughout the world. \nMany bands were later known to say how much that song had influenced them and in fact it was covered by Guns N’Roses on their Spaghetti Incident album\, as the guys are well known Naz fans. The American version of the album contained the beautiful Love Hurts which still sets the standard for a rock ballad vocal to this day. The song became a worldwide hit\, reaching number 1 in six countries and remained on the Norwegian chart for 60 weeks. In 1982 the band released Dream On\, another ballad that was to become an anthem throughout Europe. \n\n\n\nView venue policies\n\n\n\n  \n\n\nBuy Tickets
URL:https://www.planethelix.com/event/nazareth-helix-calgary-grey-eagle-resort-casino/
LOCATION:Grey Eagle Resort & Casino\, 3777 Grey Eagle Dr.\, Calgary\, AB\, T3E 3X8
ATTACH;FMTTYPE=image/webp:https://www.planethelix.com/wp-content/uploads/2025/06/504222517_18313367689229576_3367460360116401672_n.webp
END:VEVENT
BEGIN:VEVENT
DTSTART;TZID=America/Toronto:20251022T193000
DTEND;TZID=America/Toronto:20251022T233000
DTSTAMP:20260423T164145
CREATED:20250603T201726Z
LAST-MODIFIED:20250603T201816Z
UID:1893-1761161400-1761175800@www.planethelix.com
SUMMARY:Nazareth/Helix/Lee Aaron - Dawson Creek- Ovintiv Events Centre
DESCRIPTION:Nazareth with Special Guests Helix & Lee Aaron\nPresented by 101.5 The Goat\n\n\nWednesday\, October 22nd\, 2025\nDoors 6:00pm Show 7:00pm\nOvintiv Events Centre\nDawson Creek\, BC \nGet ready for a night of legendary rock! The Ovintiv Events Centre is proud to welcome Nazareth on their Canadian Farewell Tour on October 22\, 2025. With over 50 years of iconic hits like Hair of the Dog\, Love Hurts\, and Razamanaz\, Nazareth is taking one final tour across Canada — and Dawson Creek is on the map. \nJoining them are Canadian rock legends Helix and the powerhouse vocals of Lee Aaron for an unforgettable celebration of classic rock. Don’t miss your chance to be part of this historic night as these iconic performers take the stage together one last time. \n\n\nShowings\n\n\nWednesday\, October 22\, 20257:00 PM\n\n\nDateOct 22\, 2025\nTime7:00 PM\nDoors OpenDoors open at 6:00 p.m.\nTicket InfoTickets may be purchased online at www.lakeviewtix.com or by phone at 1-250-782-7443\, and in person at Lake View Tix Box Office located in the Ovintiv Events Centre\, Dawson Creek or at the Lake View Tix Box Office Outlet conveniently located downtown Dawson Creek in Sotware Emporium Inc.Please note that applicable convenience fees and applicable service charges may apply and varies by point of purchase.\nSuite Rentals: Contact Judy Kucharuk\, 250-795-3305 \nPhotography: NO VIDEO / AUDIO RECORDING PERMITTED \nCode of Conduct & Prohibited Items List: Click here to view our list of prohibited items and other frequently asked questions. \nAccessibility: Click here for more information about Accessibility \nNo Smoking and Re-Entry Policy: Click here to view our No Smoking and Re-Entry Policy and other frequently asked questions\nPriceGeneral Admission Floor (Standing Only) $90.50\, Reserved Side Bowl $80.50\, Reserved Back Bowl $70.50\, Reserved Family Section (No Alcohol) $60.50\nAvailabilityOn Sale 06.06.25 10:00 am\nSeating ChartView Seating Chart\n\n\n\n 
URL:https://www.planethelix.com/event/nazareth-helix-lee-aaron-dawson-creek-ovintiv-events-centre/
LOCATION:Ovintiv Events Centre\, 300 Hwy 2 #1\, Dawson Creek\, BC\, V1G 0A4\, Canada
ATTACH;FMTTYPE=image/webp:https://www.planethelix.com/wp-content/uploads/2025/06/504222517_18313367689229576_3367460360116401672_n.webp
END:VEVENT
BEGIN:VEVENT
DTSTART;TZID=America/Toronto:20251025T190000
DTEND;TZID=America/Toronto:20251025T230000
DTSTAMP:20260423T164145
CREATED:20250708T135242Z
LAST-MODIFIED:20250708T135242Z
UID:1902-1761418800-1761433200@www.planethelix.com
SUMMARY:Nazareth - Helix and Lee Aaron
DESCRIPTION:
URL:https://www.planethelix.com/event/nazareth-helix-and-lee-aaron/
LOCATION:Abbotsford Centre\, 33800 King Road\, Abbotsford\, BC\, V2S 8H8\, Canada
ATTACH;FMTTYPE=image/webp:https://www.planethelix.com/wp-content/uploads/2025/07/516302391_1144321127732249_5987185765989342603_n.webp
END:VEVENT
BEGIN:VEVENT
DTSTART;TZID=America/Toronto:20251027T190000
DTEND;TZID=America/Toronto:20251027T230000
DTSTAMP:20260423T164145
CREATED:20250828T144556Z
LAST-MODIFIED:20250828T144737Z
UID:1912-1761591600-1761606000@www.planethelix.com
SUMMARY:Nazareth Helix Sandman Centre  Kamloops\, BC
DESCRIPTION:Nazareth – October 27\, 2025\n\nCanadian Farewell Tour\nA night of legendary rock’n roll is coming your way! The Sandman Centre is proud to welcome Nazareth on their Canadian Farewell Tour on October 27\, 2025. With over 50 years of iconic hits like Love Hurts\, Hair of the Dog\, This Flight Tonight\, and Razamanaz. \nThis Canadian Farewell Tour marks the band’s heartfelt final tour through Canada\, offering fans one last chance to experience their iconic sound live. \nTickets go on sale to the public\, 10:00 am on Thursday\, July 31\, at the Sandman Centre Box Office and online at ticketmaster.ca. https://www.ticketmaster.ca/event/110062F6EFF956BB
URL:https://www.planethelix.com/event/sandman-centre/
LOCATION:Sandman Centre\, 300 Lorne Street\, Kamloops\, BC\, V2C 1W1\, Canada
ATTACH;FMTTYPE=image/webp:https://www.planethelix.com/wp-content/uploads/2025/06/504222517_18313367689229576_3367460360116401672_n.webp
END:VEVENT
END:VCALENDAR