BEGIN:VCALENDAR
VERSION:2.0
PRODID:-//Planet Helix - ECPv6.15.20//NONSGML v1.0//EN
CALSCALE:GREGORIAN
METHOD:PUBLISH
X-ORIGINAL-URL:https://www.planethelix.com
X-WR-CALDESC:Events for Planet Helix
REFRESH-INTERVAL;VALUE=DURATION:PT1H
X-Robots-Tag:noindex
X-PUBLISHED-TTL:PT1H
BEGIN:VTIMEZONE
TZID:America/Toronto
BEGIN:DAYLIGHT
TZOFFSETFROM:-0500
TZOFFSETTO:-0400
TZNAME:EDT
DTSTART:20250309T070000
END:DAYLIGHT
BEGIN:STANDARD
TZOFFSETFROM:-0400
TZOFFSETTO:-0500
TZNAME:EST
DTSTART:20251102T060000
END:STANDARD
BEGIN:DAYLIGHT
TZOFFSETFROM:-0500
TZOFFSETTO:-0400
TZNAME:EDT
DTSTART:20260308T070000
END:DAYLIGHT
BEGIN:STANDARD
TZOFFSETFROM:-0400
TZOFFSETTO:-0500
TZNAME:EST
DTSTART:20261101T060000
END:STANDARD
BEGIN:DAYLIGHT
TZOFFSETFROM:-0500
TZOFFSETTO:-0400
TZNAME:EDT
DTSTART:20270314T070000
END:DAYLIGHT
BEGIN:STANDARD
TZOFFSETFROM:-0400
TZOFFSETTO:-0500
TZNAME:EST
DTSTART:20271107T060000
END:STANDARD
END:VTIMEZONE
BEGIN:VEVENT
DTSTART;TZID=America/Toronto:20260611T180000
DTEND;TZID=America/Toronto:20260611T233000
DTSTAMP:20260423T081407
CREATED:20260409T201625Z
LAST-MODIFIED:20260409T201626Z
UID:2074-1781200800-1781220600@www.planethelix.com
SUMMARY:SAGA and Helix The Band
DESCRIPTION:SAGA and Helix The Band\n\n\nGet ready to feel the energy of nearly 50+ years of ROCK with SAGA AND HELIX – double bill show on June 11th at The River Cree Resort and Casino!\n\n\nThese two legendary Canadian bands will be performing all your favorites\, including “Humble Stance” and “Don’t Be Late” from SAGA – “Rock You\,” “Gimme Gimmie Good Lovin’\,” from HELIX and MORE!!\n\n\nTickets start at $ 39.99 (+GST and FEES) on sale TODAY at 10AM:\nGet tickets at GET TICKETS\n\n\nLimited Meet and Greet available!\n\n\n18+
URL:https://www.planethelix.com/event/saga-and-helix-the-band/
LOCATION:River Cree Resort & Casino\, 300 East Lapotac Blvd Box 179 Enoch\, Alberta T7X 3Y3\, Enoch\, Alberta\, T7X 3Y3\, Canada
ATTACH;FMTTYPE=image/webp:https://www.planethelix.com/wp-content/uploads/2026/04/669994295_1403086451860992_2019692801996522468_n.webp
END:VEVENT
BEGIN:VEVENT
DTSTART;TZID=America/Toronto:20260613T200000
DTEND;TZID=America/Toronto:20260613T200000
DTSTAMP:20260423T081407
CREATED:20260304T141516Z
LAST-MODIFIED:20260421T003926Z
UID:2058-1781380800-1781380800@www.planethelix.com
SUMMARY:HELIX - Red Deer Casino and Resort
DESCRIPTION:Helix – Live in Red Deer\nHelix – Live in Red Deer\n\n\n\nEvent Centre – Red Deer Resort & Casino \n\n\n\n\nDate: June 13\, 2026\n\n\n\nTime: 8:00 pm to 12:00 am\n\n\n\nHelix brings their iconic Canadian hard rock sound to Red Deer on Saturday\, June 13\, 2026. Get ready for a high-energy night of legendary hits — more details and ticket information coming soon.\nSaturday\, June 13\, 2026\nGet ready to rock\, Red Deer. \nOn Saturday\, June 13\, 2026\, Helix brings their hard-hitting Canadian rock sound to the stage for a night of pure energy\, powerhouse vocals\, and legendary anthems. \nWith a career spanning decades and a catalogue of fan-favourite hits\, Helix continues to deliver the electrifying live performances that made them one of Canada’s most iconic rock bands. Expect big guitars\, bold stage presence\, and the kind of high-octane show that keeps the crowd on its feet. \nWhether you’re a longtime fan or ready to experience classic Canadian rock live\, this is a summer concert you won’t want to miss. \nMore event details\, ticket information\, and showtime announcements are coming soon. \nMark your calendar for June 13\, 2026 — it’s going to be loud\, unforgettable\, and unmistakably Helix
URL:https://www.planethelix.com/event/helix-the-deerfoot-casino/
LOCATION:Red Deer Resort & Casino\, 3310 50 Ave.\, Red Deer\, AB\, T4N 3X9\, Canada
ATTACH;FMTTYPE=image/webp:https://www.planethelix.com/wp-content/uploads/2026/02/284ce794.webp
END:VEVENT
BEGIN:VEVENT
DTSTART;TZID=America/Toronto:20260620T180000
DTEND;TZID=America/Toronto:20260620T230000
DTSTAMP:20260423T081407
CREATED:20260319T032628Z
LAST-MODIFIED:20260319T032653Z
UID:2061-1781978400-1781996400@www.planethelix.com
SUMMARY:ALDO NOVA with SPECIAL GUEST HELIX
DESCRIPTION:After four decades\, dozens of classic songs\, and hundreds of shows\, multi- platinum GRAMMY® Award-winning singer\, songwriter\, producer\, guitarist\, and multi-instrumentalist ALDO NOVA can finally be seen alive and kicking after a long self-imposed hiatus. Aldo Nova took the world by storm when his first multi-platinum\, top ten self-titled debut album\, Aldo Nova\, gave the world the definitive Rock Anthem “Fantasy.” On its heels came the double-platinum selling Subject…Aldo Nova yielded another massive anthem\,” Monkey on Your Back.” He made his third album “Twitch” that yielded 2 hits\, “Tonite (Lift Me UP”\, and “Rumors of You.” He wrote and produced his next album\, “Blood on the Bricks\,” with Jon Bon Jovi. He emerged as a trusted collaborator for some of the biggest stars in the world. He co-wrote the song “Mr. Big Time” with Jon Bon Jovi for the soundtrack of the movie “Armageddon” and worked closely with Jon on his soundtrack album for the film Young Guns 2\, doing all the pre-production and demos himself in Bon Jovi’s home studio. He also wrote the signature riff from Jon Bon Jovi’s “Blaze of Glory.” For Celine Dion\, he penned “A New Day Has Come\,” which was a number one hit in 26 countries for six months\, along with “Your Light\,” “Can’t Fight the Feeling\,” and “You and I\,” and 15 other songs for her\, in English and French\, her native language. He garnered a GRAMMY® Award in the category of “Album of the Year” for writing and producing three songs from her diamond-selling album\, Falling into You. He has worked with Elton John\, both on Jon Bon Jovi’s Young Guns 2 soundtrack and produced the song “Levon” for Elton’s multi-platinum Two Rooms\, the songs of Elton John and Bernie Taupin. His discography also includes writing hits for everyone from Faith Hill\, Carole King\, and Clay Aiken to Garou and Blue Öyster Cult song\, “Take Me Away.” He has toured the world with bands like Cheap Trick\, Hall and Oates\, Sammy Hagar\, Blue Oyster Cult\, and as a headlining act.\nAldo Nova is a force to be reckoned with in the music world and is in a class all his own! \nHelix is a Canadian hard rock/heavy metal band best known for their 1984 smash hit “Rock You” and relentless touring. Led by vocalist and sole constant member Brian Vollmer\, the band has sold over 2 million albums\, featuring hits like “No Rest for the Wicked” and “Wild in the Streets”.  \n  \n\nDetails\n\nDate:June 20\nTime:\n8:00 pm\n\nEvent Categories:Hard Rock\, Heavy Metal\n\n\n\nVenue\n\nArcada Theatre\n\n105 E Main St\nSt. Charles\, IL 60174 United States+ Google Map\n\nPhone+1 630-962-7000\nView Venue Website
URL:https://www.planethelix.com/event/aldo-nova-with-special-guest-helix/
LOCATION:ARCADA THEATRE\, 105 E. Main St.\, St. Charles IL 60174\, Charles\, Illinois\, 60174\, United States
ATTACH;FMTTYPE=image/webp:https://www.planethelix.com/wp-content/uploads/2026/03/Aldo-Nova-Helix-web.webp
END:VEVENT
END:VCALENDAR